BEGIN:VCALENDAR
VERSION:2.0
PRODID:-//TechGuru - ECPv6.15.20//NONSGML v1.0//EN
CALSCALE:GREGORIAN
METHOD:PUBLISH
X-WR-CALNAME:TechGuru
X-ORIGINAL-URL:https://learning.scmgurus.com
X-WR-CALDESC:Events for TechGuru
REFRESH-INTERVAL;VALUE=DURATION:PT1H
X-Robots-Tag:noindex
X-PUBLISHED-TTL:PT1H
BEGIN:VTIMEZONE
TZID:Asia/Kolkata
BEGIN:STANDARD
TZOFFSETFROM:+0530
TZOFFSETTO:+0530
TZNAME:IST
DTSTART:20240101T000000
END:STANDARD
END:VTIMEZONE
BEGIN:VTIMEZONE
TZID:UTC
BEGIN:STANDARD
TZOFFSETFROM:+0000
TZOFFSETTO:+0000
TZNAME:UTC
DTSTART:20230101T000000
END:STANDARD
END:VTIMEZONE
BEGIN:VEVENT
DTSTART;TZID=Asia/Kolkata:20250531T210000
DTEND;TZID=Asia/Kolkata:20250719T220000
DTSTAMP:20260423T092441
CREATED:20250403T041008Z
LAST-MODIFIED:20250527T043924Z
UID:3670-1748725200-1752962400@learning.scmgurus.com
SUMMARY:SAP ePPDS Workshop and Expert Training Session by SCMGURU
DESCRIPTION:SAP ePPDS Workshop and Training May25 by SCMGURU\nWorkshop includes sessions as following topics;-\n1-the latest features of SAP ePPDS and comparison with SAP APO PPDS\n2-What are benefits of ePPDS for different industry\n3-the challenges of ePPDS implementation (greenfield and brownfield projects )\n4-the challenges and migration process from APO PPDS to ePPDS ( S4). \nTraining sessions includes as following topics;-\nePPDS master data\nePPDS integration between s4 other modules an IBP\nePPDS process flow and configuration\nePPDS prpduction execution and detailed scheduling\nreports and Badi etc \nthere are additional session of 15 hours on iPPE process in ePPDS based on special request. \nWorkshop and session duration; 50-70 hours\nSchedule; Every Saturday and Friday (starting from 31st May25) \nplease enroll to join expert session at SCMGURU by SCMGURUS \nsee you there….
URL:https://learning.scmgurus.com/event/sap-eppds-workshop-and-expert-training-session-by-scmguru/
LOCATION:Online\, Ban\, India
ATTACH;FMTTYPE=image/jpeg:https://learning.scmgurus.com/wp-content/uploads/2025/03/ppds.jpg
ORGANIZER;CN="SCMGURU":MAILTO:support@scmgurus.com
END:VEVENT
BEGIN:VEVENT
DTSTART;TZID=UTC:20241221T150000
DTEND;TZID=UTC:20241221T220000
DTSTAMP:20260423T092441
CREATED:20241111T190632Z
LAST-MODIFIED:20241111T190632Z
UID:2820-1734793200-1734818400@learning.scmgurus.com
SUMMARY:SCMGURU Community Summit India 2024
DESCRIPTION:SCMGURU Community Summit India 2024
URL:https://learning.scmgurus.com/event/scmguru-community-summit-india-2024/
END:VEVENT
BEGIN:VEVENT
DTSTART;TZID=UTC:20240921T140000
DTEND;TZID=UTC:20240921T170000
DTSTAMP:20260423T092441
CREATED:20240903T083156Z
LAST-MODIFIED:20240903T084113Z
UID:2089-1726927200-1726938000@learning.scmgurus.com
SUMMARY:SAP S4 Project Internship
DESCRIPTION:SAP S4 Project Internship\nRealtime walk through on SAP S4 project ( AMS ) by industry expert
URL:https://learning.scmgurus.com/event/sap-s4-project-internship/
LOCATION:Online\, Ban\, India
CATEGORIES:SAP guru
ATTACH;FMTTYPE=image/jpeg:https://learning.scmgurus.com/wp-content/uploads/2024/09/4-800x450-1.jpg
ORGANIZER;CN="SCMGURU":MAILTO:support@scmgurus.com
END:VEVENT
END:VCALENDAR